BEGIN:VCALENDAR
VERSION:2.0
PRODID:-//Cabinet Maréchaux - ECPv6.15.20//NONSGML v1.0//EN
CALSCALE:GREGORIAN
METHOD:PUBLISH
X-WR-CALNAME:Cabinet Maréchaux
X-ORIGINAL-URL:https://www.cabinetmarechaux.com
X-WR-CALDESC:Évènements pour Cabinet Maréchaux
REFRESH-INTERVAL;VALUE=DURATION:PT1H
X-Robots-Tag:noindex
X-PUBLISHED-TTL:PT1H
BEGIN:VTIMEZONE
TZID:Europe/Paris
BEGIN:DAYLIGHT
TZOFFSETFROM:+0100
TZOFFSETTO:+0200
TZNAME:CEST
DTSTART:20240331T010000
END:DAYLIGHT
BEGIN:STANDARD
TZOFFSETFROM:+0200
TZOFFSETTO:+0100
TZNAME:CET
DTSTART:20241027T010000
END:STANDARD
BEGIN:DAYLIGHT
TZOFFSETFROM:+0100
TZOFFSETTO:+0200
TZNAME:CEST
DTSTART:20250330T010000
END:DAYLIGHT
BEGIN:STANDARD
TZOFFSETFROM:+0200
TZOFFSETTO:+0100
TZNAME:CET
DTSTART:20251026T010000
END:STANDARD
BEGIN:DAYLIGHT
TZOFFSETFROM:+0100
TZOFFSETTO:+0200
TZNAME:CEST
DTSTART:20260329T010000
END:DAYLIGHT
BEGIN:STANDARD
TZOFFSETFROM:+0200
TZOFFSETTO:+0100
TZNAME:CET
DTSTART:20261025T010000
END:STANDARD
END:VTIMEZONE
BEGIN:VEVENT
DTSTART;VALUE=DATE:20250404
DTEND;VALUE=DATE:20250405
DTSTAMP:20260421T163518
CREATED:20250331T091517Z
LAST-MODIFIED:20250331T091805Z
UID:4044-1743724800-1743811199@www.cabinetmarechaux.com
SUMMARY:Giquello et associés - Paris
DESCRIPTION:CLASSIQUE\nVendredi 04 Avril 2025 14:30\nSalle 1 – Hôtel Drouot \, 9\, rue Drouot 75009 Paris \nVoir le catalogue de la vente \nÉmile VERNON 1872-1920 \nLe Jongleur de Notre-Dame\nHuile sur toile\, signée et datée 1892 en bas à droite\n116 x 89 cm  \nLa scène représentée est celle du « Tombeur » ou « Jongleur » de Notre-Dame. Un récit très célèbre de la littérature mariale du Moyen-Âge\, censé illustré à la fois le miséricorde et la pénitence mariale envers les humbles et les artistes même quand leur foi ne correspond pas aux normes liturgiques habituelles.\nCe récit a connu plusieurs versions à travers le temps. \n« Le jongleur de Notre-Dame\, Conte pour le mois de Mai  » par Anatole France est  publié en 1890 dans le Gaulois\, n°2811 et repris dans son recueil de nouvelles « l’Etui de Nacre »  en  1892. \nL’histoire raconte le parcours d’un jongleur errant qui\, las de sa vie d’artiste itinérant\, décide d’entrer dans un monastère. Cependant\, il se heurte rapidement à un obstacle : il ne sait ni lire les psaumes ni réciter les prières comme les autres moines. Se sentant inutile et incapable de louer Dieu comme eux\, il choisit d’exprimer sa dévotion par le seul moyen qu’il connaît : la danse et l’acrobatie.\nChaque jour\, en secret\, il se rend dans la chapelle du monastère et exécute des figures devant l’autel de la Vierge\, persuadé qu’elle comprendra son geste et l’acceptera comme une prière. Un jour\, un moine le surprend et\, scandalisé\, alerte l’abbé\, convaincu qu’il s’agit d’un sacrilège. L’abbé et plusieurs moines se précipitent alors dans la chapelle\, prêts à condamner l’homme pour son comportement jugé inapproprié. Mais à leur grande stupeur\, ils assistent à un miracle : la Vierge descend de son autel pour essuyer la sueur du jongleur\, prouvant ainsi que son offrande a été agréée.  \nBibliographie :\n– Martine CLOUZOT\, « Un intermédiaire culturel au xiiie siècle : le jongleur »\, Bulletin du centre d’études médiévales d’Auxerre | BUCEMA [Online]\, Hors-série n° 2 | 2008\, Online since 24 January 2009\n– Sylvie BARNAY\, « Le ciel sur la terre. Les apparitions de la Vierge au Moyen Âge »\, Paris\, Cerf\, 1999
URL:https://www.cabinetmarechaux.com/index.php/event/giquello-et-associes-paris-3/
LOCATION:DROUOT RICHELIEU\,  Paris\,  salle 1\, 9 rue Drouot\, PARIS\, 75009\, France
CATEGORIES:Ventes à venir
ATTACH;FMTTYPE=image/jpeg:https://www.cabinetmarechaux.com/wp-content/uploads/2025/03/IMG_2550-scaled.jpeg
END:VEVENT
BEGIN:VEVENT
DTSTART;VALUE=DATE:20250407
DTEND;VALUE=DATE:20250408
DTSTAMP:20260421T163518
CREATED:20250331T095306Z
LAST-MODIFIED:20250331T100108Z
UID:4047-1743984000-1744070399@www.cabinetmarechaux.com
SUMMARY:Brissonneau - Paris
DESCRIPTION:LIVRES ANCIENS ET MODERNES\, AUTOGRAPHES\, PHOTOS\nLundi 07 Avril 2025 13:30\nSalle 5 – Hôtel Drouot \, 9\, rue Drouot 75009 Paris \nLot 92\nLouis MARCOUSSIS (1883-1941)\nPortrait de Roland Dorgelès\, 1904\nAquarelle\, signée et dédicacée à M. Roland Dorgelès en bas à droite\n34 x 24 cm \nBibliographie : Jean Lafranchis\, Marcoussis\, sa vie\, son oeuvre\, décrit et reproduit p. 299\, n° D5 \nExpositions :\n-Marcoussis\, Musée National d‘Art Moderne\, 3 juillet – 4 octobre 1954\, n° 93\n– Le Bateau-lavoir\, Musée Jacquemart-André\, Paris\, 31 octobre 1975- 31 janvier 1976\, n°112
URL:https://www.cabinetmarechaux.com/index.php/event/brissonneau-paris-vente-sur-deux-jours/
CATEGORIES:Ventes à venir
ATTACH;FMTTYPE=image/jpeg:https://www.cabinetmarechaux.com/wp-content/uploads/2025/03/IMG_9652.jpeg
END:VEVENT
BEGIN:VEVENT
DTSTART;VALUE=DATE:20250408
DTEND;VALUE=DATE:20250409
DTSTAMP:20260421T163518
CREATED:20250331T095852Z
LAST-MODIFIED:20250331T100232Z
UID:4050-1744070400-1744156799@www.cabinetmarechaux.com
SUMMARY:Brissonneau - Paris
DESCRIPTION:TABLEAUX\, MEUBLES ET OBJETS D’ART\nMardi 08 Avril 2025 14:00\nSalle 5 – Hôtel Drouot \, 9\, rue Drouot 75009 Paris \nVoir le catalogue de la vente \nCharles CAMOIN (1879-1965)\nBouquet de fleurs dans l’aiguière blanche\, vers 1940\nHuile sur toile\, signée en bas à gauche\, annotée n°108 et AI565 sur le châssis. 65 x 54 cm\nNous remercions Madame Assia Quesnel des archives Camoin de nous avoir confirmé l’authenticité de cette oeuvre et d’en avoir précisé le titre et la date avec lesquels cette toile sera répertoriée dans leurs archives.
URL:https://www.cabinetmarechaux.com/index.php/event/brissonneau-paris-5/
CATEGORIES:Ventes à venir
ATTACH;FMTTYPE=image/png:https://www.cabinetmarechaux.com/wp-content/uploads/2025/03/Capture-decran-2025-03-31-a-11.55.40.png
END:VEVENT
BEGIN:VEVENT
DTSTART;VALUE=DATE:20250409
DTEND;VALUE=DATE:20250410
DTSTAMP:20260421T163518
CREATED:20250331T145736Z
LAST-MODIFIED:20250331T150057Z
UID:4056-1744156800-1744243199@www.cabinetmarechaux.com
SUMMARY:Christies - Paris
DESCRIPTION:20/21 Century Art – Evening Sale – 17h\n9 Avenue Matignon\, Paris \nVoir le calendrier de la vente \nHenri de Toulouse-Lautrec (1864-1901)\nJane Avril au Divan Japonais\ninscrit ‘JAPONAIS’ (en haut à droite)\npeinture à l’essence\, crayon gras et graphite sur carton\n82.5 x 64.5 cm.\nExécuté en 1892 \ninscribed ‘JAPONAIS’ (upper right)\npeinture à l’essence\, wax crayon and pencil on board\n32 ½ x 25 3⁄8 in.\nExecuted in 1892 \nPROVENANCE \nGeorge Viau\, Paris.\nSirapé Sévadijan; sa vente\, Me. Lair-Dubreil\, Paris\, 22 mars 1920\, lot 23.\nJørgen Breder Stang\, Norvège (acquis au cours de cette vente et jusqu’à au moins 1931).\nDr. Alfred Gold\, Berlin et Paris.\nCollection particulière\, Paris (dans les années 1930).\nPuis par descendance au propriétaire actuel. \nBIBLIOGRAPHIE \nG. Coquiot\, H. de Toulouse-Lautrec\, Paris\, 1913\, p. 171 (illustré).\nM. Joyant\, Henri de Toulouse-Lautrec\, Peintre\, Paris\, 1926\, p. 274 (illustré\, p. 187).\nP. de Lapparent\, Toulouse-Lautrec\, Paris\, 1927\, p. 35.\nP. Jamot\, ‘L’art français en Norvège\, Galerie Nationale d’Oslo et collections particulières’ in La Renaissance\, New York et Paris\, février 1929\, No. 2\, p. 100 (illustré\, p. 93).\nJ. Galtier-Boissière\, ‘Poil et Plume’\, in Le Crapouillot\, mai 1931\, p. 38 (illustré).\n‘Toulouse-Lautrec’\, in Vogue\, juin 1931\, p. 59 (illustré).\nE. Schaub Koch\, Psychanalyse d’un peintre moderne\, Henri de Toulouse-Lautrec\, Paris\, 1935\, p. 203.\nJ. Lassaigne\, Toulouse-Lautrec\, Londres\, 1939\, p. 93 (illustré).\nL. Borgese\, Toulouse-Lautrec\, 33 tavole\, Milan\, 1945 (illustré\, pl. XVIII).\nF. Jourdain\, Toulouse-Lautrec\, Lausanne et Paris\, 1948\, pl. 22 (illustré).\nW. Kern\, Toulouse-Lautrec\, Berne\, 1948\, pl. 22 (illustré).\nM. G. Dortu\, Toulouse-Lautrec\, Paris\, 1952\, p. 6.\nE. Julien\, Pour connaître Toulouse-Lautrec\, 1953\, p. 15 (illustré).\nH. Focillon\, Lautrec-Dessins\, Lausanne et Paris\, 1959\, p. 22.\nM. G. Dortu\, Toulouse-Lautrec et son oeuvre\, New York\, 1971\, vol. II\, p. 248\, no. P.420 (illustré\, p. 249).
URL:https://www.cabinetmarechaux.com/index.php/event/christies-paris-ventes-aux-encheres-auction-sales-toulouse-lautrec/
CATEGORIES:Ventes à venir
ATTACH;FMTTYPE=image/png:https://www.cabinetmarechaux.com/wp-content/uploads/2025/03/Capture-decran-2025-03-31-a-16.51.39.png
END:VEVENT
BEGIN:VEVENT
DTSTART;VALUE=DATE:20250412
DTEND;VALUE=DATE:20250413
DTSTAMP:20260421T163518
CREATED:20250331T151001Z
LAST-MODIFIED:20250331T151355Z
UID:4061-1744416000-1744502399@www.cabinetmarechaux.com
SUMMARY:Briscadieu - Bordeaux
DESCRIPTION:PEINTURES BORDELAISES ET DU SUD OUEST #9\nSamedi 12 Avril 2025 14:00 \nVoir le catalogue de la vente \nCharles LACOSTE 1870-1959\n« Jour orageux sur la ville\, matin d’encre et d’or\, le pont »\, 1897\nHuile sur papier\, signé et daté 1897 en bas à droite. Bordeaux\, Août 1897.\n22 x 23 cm \nProvenance  :\nAncienne collection Gabriel Frizeau\, don de Charles Lacoste en 1898\npar descendance \nExposition :\n– Exposition Charles Lacoste\, Salon des Cent : Revue « La Plume »\, Paris\, 1er octobre – 30 novembre 1898\, n°22 \nBibliographie :\nFrédéric Chappey\, « L’oeuvre de Charles Lacoste\, 1870-1959 »\, Thèse Université de Paris X- Nanterre\, 1981. Décrit sous le n°321 et reproduit sous le n°596. \nCharles LACOSTE 1870-1959 \n« Londres. La Tamise à Battersee. Crépuscule »\, 1901\nHuile sur carton\, signé et daté 1901 en bas à gauche.\n46 x 63 cm \nProvenance :\nAncienne collection Gabriel Frizeau\, don de Charles Lacoste en janvier 1908\, en échange d’un autre tableau du peintre appartenant au collectionneur.\npar descendance \nExpositions :\nExposition Charles Lacoste\, Galerie Druet\, Paris\, janvier 1905\, n°80\nSalon des Indépendants\, Paris\, mars-avril 1907\, n°2814\nCharles Lacoste 60 ans de peinture entre symbolisme et naturalisme\, Paris\, Mairie du XVI° – Beauvais\, Musée départemental de l’Oise et Bordeaux\, Galerie des Beaux-Arts\, 1985\, n°45\, reproduit p.47 du catalogue. \nBibliographie :\nFrédéric Chappey\, « L’oeuvre de Charles Lacoste\, 1870-1959 »\, Thèse Université de Paris X- Nanterre\, 1981. Décrit sous le n°419 bis et reproduit sous le n°556.
URL:https://www.cabinetmarechaux.com/index.php/event/briscadieu-bordeaux-13/
LOCATION:BRISCADIEU BORDEAUX\, 12-14 rue Peyronnet\, Bordeaux\, 33800\, France
CATEGORIES:Ventes à venir
ATTACH;FMTTYPE=image/jpeg:https://www.cabinetmarechaux.com/wp-content/uploads/2025/03/IMG_1962.jpeg
END:VEVENT
BEGIN:VEVENT
DTSTART;VALUE=DATE:20250425
DTEND;VALUE=DATE:20250426
DTSTAMP:20260421T163518
CREATED:20250414T150824Z
LAST-MODIFIED:20250414T150824Z
UID:4078-1745539200-1745625599@www.cabinetmarechaux.com
SUMMARY:Biarritz
DESCRIPTION:ARTS CLASSIQUES VENDREDI 25 AVRIL 2025 À 14H30 MAÎTRE MF CARAYOL – COMMISSAIRE-PRISEUR \nVoir le catalogue de la vente \nExpositions :\nMardi 22 avril 2025 14h – 18h\nMercredi 23 avril 2025 10h – 12h & 14h – 18h\nJeudi 24 avril 2025 10h – 12h \nLot 105 ARMAND GUILLAUMIN (1841-1929)\n«Le quai»\nHuile sur toile\nSignée et datée 69 en bas à gauche\n38 x 46 cm
URL:https://www.cabinetmarechaux.com/index.php/event/biarritz-8/
CATEGORIES:Ventes à venir
ATTACH;FMTTYPE=image/png:https://www.cabinetmarechaux.com/wp-content/uploads/2025/04/Capture-decran-2025-04-14-a-17.05.32.png
END:VEVENT
END:VCALENDAR