BEGIN:VCALENDAR
VERSION:2.0
PRODID:-//Cabinet Maréchaux - ECPv6.15.20//NONSGML v1.0//EN
CALSCALE:GREGORIAN
METHOD:PUBLISH
X-ORIGINAL-URL:https://www.cabinetmarechaux.com
X-WR-CALDESC:Évènements pour Cabinet Maréchaux
REFRESH-INTERVAL;VALUE=DURATION:PT1H
X-Robots-Tag:noindex
X-PUBLISHED-TTL:PT1H
BEGIN:VTIMEZONE
TZID:Europe/Paris
BEGIN:DAYLIGHT
TZOFFSETFROM:+0100
TZOFFSETTO:+0200
TZNAME:CEST
DTSTART:20240331T010000
END:DAYLIGHT
BEGIN:STANDARD
TZOFFSETFROM:+0200
TZOFFSETTO:+0100
TZNAME:CET
DTSTART:20241027T010000
END:STANDARD
BEGIN:DAYLIGHT
TZOFFSETFROM:+0100
TZOFFSETTO:+0200
TZNAME:CEST
DTSTART:20250330T010000
END:DAYLIGHT
BEGIN:STANDARD
TZOFFSETFROM:+0200
TZOFFSETTO:+0100
TZNAME:CET
DTSTART:20251026T010000
END:STANDARD
BEGIN:DAYLIGHT
TZOFFSETFROM:+0100
TZOFFSETTO:+0200
TZNAME:CEST
DTSTART:20260329T010000
END:DAYLIGHT
BEGIN:STANDARD
TZOFFSETFROM:+0200
TZOFFSETTO:+0100
TZNAME:CET
DTSTART:20261025T010000
END:STANDARD
END:VTIMEZONE
BEGIN:VEVENT
DTSTART;VALUE=DATE:20250521
DTEND;VALUE=DATE:20250522
DTSTAMP:20260421T150425
CREATED:20250424T100321Z
LAST-MODIFIED:20250424T100819Z
UID:4084-1747785600-1747871999@www.cabinetmarechaux.com
SUMMARY:Pau - Carrère et Laborie - Ivoire Live tour
DESCRIPTION:Ivoire Live tour \nVoir le catalogue de la vente \nHermenegildo ANGLADA-CAMARASA 1871-1959\nCoq\, circa 1904\nHuile sur toile\, signée en bas à droite\n70\,5 x 50 cm \nProvenance :\n– Collection du compositeur français René d’Avezac de Castera (1873-1955) ami et témoin de mariage de Hermenegildo Anglada Camarasa dont il fut un des premiers collectionneurs entre autres grands artistes. René de Castéra était aussi un proche de Maurice Denis qui le portraitura ainsi que son épouse dans l’allégorie de la musique ornant la coupole du foyer du Théâtre des Champs Elysées.\n– Collection particulière du sud de la France par descendance directe. \nExposition :\n– La quinzaine d’Art espagnol\, Galerie Charpentier\, Paris\, septembre-octobre 1942\, n°9 (Prêt de Monsieur René d’Avezac de Castera dont l’étiquette d’exposition collée du le châssis mentionne le nom.) \nNous remercions Monsieur Fransesc de Fonbona de nous avoir confirmé l’authenticité de cette oeuvre et la datation autour de 1904. \nLe thème du coq est un thème que l’on retrouve souvent dans l’oeuvre d’Anglada-Camarasa\, notamment autour de 1904 date à laquelle il expose un Marché aux coqs. Le plumage de ce coq est traité comme l’une des robes de Démarche gitane de 1902.
URL:https://www.cabinetmarechaux.com/index.php/event/pau-carrere-et-laborie-ivoire-live-tour/
CATEGORIES:Ventes à venir
ATTACH;FMTTYPE=image/jpeg:https://www.cabinetmarechaux.com/wp-content/uploads/2025/04/IMG_2621-scaled.jpeg
END:VEVENT
BEGIN:VEVENT
DTSTART;VALUE=DATE:20250521
DTEND;VALUE=DATE:20250522
DTSTAMP:20260421T150425
CREATED:20250429T083436Z
LAST-MODIFIED:20250429T084330Z
UID:4087-1747785600-1747871999@www.cabinetmarechaux.com
SUMMARY:Audap et Associés - Paris
DESCRIPTION:TABLEAUX & ARTS DÉCORATIFS DU XXE SIÈCLE\nmercredi 21 mai 2025 14:00\nSalle 16 – Hôtel Drouot \, 9\, rue Drouot 75009 Paris \nVoir le catalogue de la vente \nPaul SÉRUSIER (1864-1927)\nLa ramasseuse de fagots en automne\nHuile sur toile\, signée et datée 19 en bas à gauche.\nHaut. : 71 cm ; Larg. : 50 cm \nParisien\, Paul Sérusier découvre Chateauneuf-du-Faou en 1891 et s’y installe en 1906. La vallée de l’Aulne et les paysages chateauneuviens seront une source d’inspiration pour lui au fil des saisons.\nPaysages mystiques et scènes de la vie quotidienne se mêlent dans son œuvre.\nLa galerie Druet présente\, dans ses expositions consacrées à l’artiste de l’automne 1919 et de février 1923\, une « Femme au fagot ».
URL:https://www.cabinetmarechaux.com/index.php/event/audap-et-associes-paris-11/
CATEGORIES:Ventes à venir
ATTACH;FMTTYPE=image/jpeg:https://www.cabinetmarechaux.com/wp-content/uploads/2025/04/IMG_3474-scaled.jpeg
END:VEVENT
BEGIN:VEVENT
DTSTART;VALUE=DATE:20250521
DTEND;VALUE=DATE:20250522
DTSTAMP:20260421T150425
CREATED:20250429T092228Z
LAST-MODIFIED:20250429T093551Z
UID:4099-1747785600-1747871999@www.cabinetmarechaux.com
SUMMARY:Angers - Deloys - Ivoire live tour
DESCRIPTION:IVOIRE LIVE TOUR 2025 – Saison 2\nUn tour de France des enchères\, en direct et en mouvement \nVoir le lien vers le catalogue de la vente \nLot 15\nAlbert MARQUET (1875-1947)\nLes Ballots blancs\, Marseille\, 1916\nHuile sur carton toilé\, signée en bas à droite\nDimensions : 26\,5 x 34\,5 cm\nProvenance :\n– Bernheim-Jeune\, acquis auprès de l’artiste en décembre 1916 – L. Marseille\, acquis auprès du précédent en avril 1917\n– Acquis auprès de L. Marseille le 28 février 1924 par la famille des actuels propriétaires\n– Par descendance   \nCette œuvre sera incluse dans le Catalogue Raisonné digital de Albert Marquet actuellement en préparation sous l’égide du Wildenstein Plattner Institute Inc. Une attestation d’inclusion au catalogue raisonné digital du WPI (Wildenstein Plattner Institute) à la charge de l’acquéreur lui sera remise (net à payer : 2 787\,07 €)\nAlbert Marquet\, exempté de guerre pour cause de myopie et de claudication\, vient à Marseille avec son ami Henri Matisse dès la fin de l’année 1915. Il y retourne en juillet et loue l’atelier du peintre Eugène Montfort\, quai de Rive-Neuve\, jusqu’à la fin de la guerre. Durant cette période\, il effectue de nombreux allers-retours entre Paris et Marseille.
URL:https://www.cabinetmarechaux.com/index.php/event/deloys-ivoire-live-tour-angers/
CATEGORIES:Ventes à venir
ATTACH;FMTTYPE=image/jpeg:https://www.cabinetmarechaux.com/wp-content/uploads/2025/04/IMG_3326.jpeg
END:VEVENT
BEGIN:VEVENT
DTSTART;VALUE=DATE:20250521
DTEND;VALUE=DATE:20250522
DTSTAMP:20260421T150425
CREATED:20250429T093043Z
LAST-MODIFIED:20250429T093500Z
UID:4102-1747785600-1747871999@www.cabinetmarechaux.com
SUMMARY:Clermont-Ferrand -Vassy &  Courtadon  - Ivoire live tour
DESCRIPTION:IVOIRE LIVE TOUR 2025 – Saison 2\nUn tour de France des enchères\, en direct et en mouvement  \nVoir le lien vers le catalogue \nLouis BEROUD (1852-1930)\nCopiste devant la Joconde au Louvre\nHuile sur toile\, signée en bas à gauche et datée 1909.\n73 x 92 cm (restaurations notamment coupure en haut du tableau)   \nLe Louvre avec ses tableaux mais aussi ses copistes sont un des sujets de prédilection de Louis Béroud dès 1883. C’est ainsi qu’en allant copier la Joconde en 1911\, il alertera les gardiens de la disparition de ce chef d’œuvre.  \nLe peintre nous place dans le salon carré du Louvre. Sur la toile\, nous pouvons distinguer les oeuvres de Coppel avec le mariage mystique de Sainte Catherine d’Alexandrie\, le portrait de l’infante Marguerite Thérèse par Velazquez et l’allégorie du mariage par le Titien. Au centre de la composition se trouve l’œuvre du Maître Léonard de Vinci dont la popularité va être fortement accrue en raison du vol découvert en août 1911 par Beroud lui-même.
URL:https://www.cabinetmarechaux.com/index.php/event/vassy-courtadon-clermont-ferrand-ivoire-live-tour/
CATEGORIES:Ventes à venir
ATTACH;FMTTYPE=image/jpeg:https://www.cabinetmarechaux.com/wp-content/uploads/2025/04/image0.jpeg
END:VEVENT
BEGIN:VEVENT
DTSTART;VALUE=DATE:20250522
DTEND;VALUE=DATE:20250523
DTSTAMP:20260421T150425
CREATED:20250429T090200Z
LAST-MODIFIED:20250429T090626Z
UID:4093-1747872000-1747958399@www.cabinetmarechaux.com
SUMMARY:Giquello - Tentation n°3 - Paris
DESCRIPTION:TENTATION°3\nJeudi 22 Mai 2025 18:00\nSalle 9 – Hôtel Drouot \, 9\, rue Drouot 75009 Paris \nVoir le catalogue de la vente \nLot 17\n73 x 111 cm\nProvenance : –  Docteur Samuel Pozzi\n– Jean Pozzi\n–  Vente Maîtres Rheims et Laurin\, Palais Galliera\, Paris\, 4 décembre 1970\, succession Jean Pozzi\, lot 83   \nBibliographie :\n– Robert de Montesquiou\, Paul Helleu\, peintre et graveur\, Paris\, 1913\, décrit p. 30 et 31\n– Catalogue Vente Palais Galliera Paris\, 4 décembre 1970\, lot 83\n– Répertorié dans les archives de l’Association Paul-César Helleu (APCH) sous le n° PA-4438   \nAu verso de la toile se trouve le tampon du marchand de couleurs “TROISGROS FRERES. Fabricants\, 105 rue Cardinet/Maison principale 35 Rue de Laval” Le guide Labreuche précise que ce marchand de couleurs est actif à Paris entre 1883 et 1892. Selon les attestations documentaires\, cette maison est installée entre la rue Cardinet et la rue de Laval entre 1884 et 1887.\nNous retrouvons ce même cachet au verso du Portrait de Mathilde Sée\, pastel sur toile\, exécuté par Helleu vers 1886 et conservé au Musée Bonnat à Bayonne.    \nPaul-César Helleu expose à la Société des pastellistes dès 1885 et l’un de ses premiers pastels sur toile connu est le portrait de la jeune Alice Guérin (qui deviendra son épouse) réalisé en 1884 et actuellement conservé au Musée Bonnat à Bayonne.  Le catalogue raisonné de l’œuvre de cet artiste recense pas moins de cent quatre-vingts pastels.   \nCette technique est très en vogue en France dans la deuxième moitié du XIXe siècle et au début du XXe\, comme l’a si bien illustré l’exposition que lui a consacré le Musée d’Orsay en 2023.    \nEt Robert de Montesquiou d’écrire\, en 1913 : “Certes\, Helleu préfère\, et il a raison\, demeurer\, ainsi que l’a nommé Goncourt\, l’auteur « des pastels où l’on sent un œil de peintre\, amoureux de douces étoffes\, de tendres nuances passées\, de soieries harmonieusement déteintes ».  Il ne manque d’insister sur l’importance pour l’artiste de la chevelure de ses modèles “Le cher modèle aux cheveux couleur de souci” avant de rendre hommage au peintre graveur : Et ne sera-ce pas un bel éloge si l’on dit de lui\, si l’on grave sur son marbre : homme d’un seul dieu : l’Art ; d’un seul maître : le Goût ; d’une seule femme : « le charmant modèle qui prête la vie élégante de son corps à toutes ces compositions\, ne pouvant faire un mouvement qui ne soit de grâce et d’élégance\, et que\, dix fois par jour\, le peintre s’essaie à surprendre »… la multiforme Alice\, dont la rose chevelure illumine de son reflet tant de miroirs de cuivre ?”\nRobert de Montesquiou écrivait en 1913\, à propos de cette « femme au miroir » : “Un mystérieux pastel est encore la propriété du Docteur Pozzi\, véritable leçon de choses\, chez ce savant thérapeute. Une jeune femme\, une accouchée\, une opérée peut-être\, béatement convalescente\, en une crépusculaire clarté d’alcôve\, s’amuse à effleurer d’une fleur\, un miroir dont le cadre d’argent\, miroir lui-même\, reflète\, non moins que la glace\, les turquoises de rayons épars\, de foyers distants\, d’horizons lointains. Et cette fleur\, par une harmonie de coloris\, une loi de sentiments\, se trouve être un souci\, qui met comme une blessure dans tout ce linge bleuté\, et dont l’orangé\, entre les céreuses mains\, répète\, avec plus de vivacité\, la nuance des cheveux noués au-dessus du visage de cire.”  Un souci promené sur un miroir Par des mains hésitantes de malade ; Pâles doigts d’une cire où l’on croit voir S’effeuiller le souci d’un jour maussade.  Un miroir où du bleu s’est reflété\, Sans qu’on sache encore bien ce qui l’azure ; Et le tout\, moins fini que complété Par un front où s’endort une blessure.  Une tête aux cheveux d’ambre roussi. Au bleuté du limon mêlé par vagues\, Comme un autre abandon d’humain souci\, Sur l’azur du miroir des rêves vagues.    \nLe Docteur Samuel Pozzi\, propriétaire de ce pastel dès le début du XXe siècle était un important collectionneur\, ami de Robert de Montesquiou et dont le portrait avait été réalisé par John Singer Sargent\, lui aussi proche de Paul-César Helleu. Il est aussi et avant tout un célèbre médecin de la Belle Époque\, titulaire de la première chaire de gynécologie en France.   \nLors de le vente de la succession du diplomate Jean Pozzi\, fils du célèbre chirurgien\, le 4 décembre 1970 au Palais Galliera à Paris\, on retrouve le portrait du Docteur Pozzi dans son intérieur par Sargent\, (acquis alors par Armand Hammer et conservé aujourd’hui à la Hammer Collection à Los Angeles)\, une peinture de Giovanni Boldini\, un dessin d’Edgar Degas\, et notre pastel de Helleu avec le titre Femme à l’œillet.
URL:https://www.cabinetmarechaux.com/index.php/event/giquello-tentation-n3-paris/
CATEGORIES:Ventes à venir
ATTACH;FMTTYPE=image/jpeg:https://www.cabinetmarechaux.com/wp-content/uploads/2025/04/PHOTO-2025-04-09-10-41-36.jpg
END:VEVENT
BEGIN:VEVENT
DTSTART;VALUE=DATE:20250524
DTEND;VALUE=DATE:20250525
DTSTAMP:20260421T150425
CREATED:20250403T082946Z
LAST-MODIFIED:20250416T100410Z
UID:4067-1748044800-1748131199@www.cabinetmarechaux.com
SUMMARY:Hôtel des ventes de Poitiers
DESCRIPTION:BEL AMEUBLEMENT\, PEINTURE\, SCULPTURE & OBJETS d’ART\nLive 24 mai 2025 à 13h30 \n Voir le catalogue de la vente \nGino SEVERINI (1883-1966) \n« Camille Declide »\, 1908\nHuile sur toile\, dédicacée « à Monr Camille Declide souvenir affectueux »\, signée\, située « Civray » et datée « MCMVIII ».\nTitrée « Portrait de Mr Declide »\, contresignée et située au verso.\n73 x 60 cm \nProvenance : Ancienne collection Cognac\, Angoulême \nExpositions :\n–    « 25ème Exposition de la Société des Artistes Indépendants\, Paris\, 1909\, n°1460\n« Exposition des oeuvres réalisées à Civray par Gino Severini »\, Civray\, 1983\, n°4. \nBibliographie :\n–   Gérard Dauxerre\, « Severini Peintre de renommée mondiale et Civraisien de coeur »\, Bulletin des Amis du Pays Civraisien\, 1986\, rep. p.17\nDaniela Fonti\, « Gino Severini Catalogo ragionato »\, Ed. P. Daverio\, Milano\, 1988. Décrit et reproduit sous le n°54\, p.89. \nGino SEVERINI (1883-1966)\n« Claudine du Moulin de la Galette »\, 1907\nou « Foyer d’artistes »\nPastel.\n46\,5 x 28 cm (à vue) \nProvenance : Ancienne collection Cognac\, Angoulême \nExpositions :\n– « Salon de la Société Nationale des Beaux-Arts »\,     Paris\, 1908\, n°1689.\n« Exposition des oeuvres réalisées à Civray par Gino Severini »\, Civray\, 1983\, n°32. \nBibliographie :\nDaniela Fonti\, « Gino Severini Catalogo ragionato »\, Ed. P. Daverio\, Milano\, 1988. Décrit et reproduit sous le n°42\, p.84
URL:https://www.cabinetmarechaux.com/index.php/event/hotel-des-ventes-de-poitiers-5/
CATEGORIES:Ventes à venir
ATTACH;FMTTYPE=image/jpeg:https://www.cabinetmarechaux.com/wp-content/uploads/2025/04/IMG_9551-scaled.jpeg
END:VEVENT
BEGIN:VEVENT
DTSTART;VALUE=DATE:20250524
DTEND;VALUE=DATE:20250525
DTSTAMP:20260421T150425
CREATED:20250403T084447Z
LAST-MODIFIED:20250403T084447Z
UID:4073-1748044800-1748131199@www.cabinetmarechaux.com
SUMMARY:Hôtel des ventes Montpellier Languedoc
DESCRIPTION:TABLEAUX – MOBILIER – OBJETS D’ART  \nVoir le catalogue de la vente \nAlbert MARQUET 1875-1947\nFontarabie\, c. 1926\nAquarelle\, signée en bas à droite.\n15\,8 x 23 cm \nHenri de TOULOUSE-LAUTREC\n1864-1901\nHommes accroupis – « Ils sont de Cahors ! »\, 1881\nDessin au crayon noir double face\, titré au verso.\n16\,2 x 25\,9 cm \nBibliographie :\n– M.G. Dortu\, Toulouse-Lautrec et son oeuvre\, Tome V\, Collectons Editions\, New-York\, 1971\, décrits et reproduits sous les n°D1-930 et D1-931 pp.320 et 321.\nLe recto est également décrit et reproduit dans le Tome IV sous le n°D.1751 pp.288 et 289 \n \n \nOeuvres visibles au cabinet Maréchaux à Paris sur rendez-vous
URL:https://www.cabinetmarechaux.com/index.php/event/hotel-des-ventes-montpellier-languedoc/
CATEGORIES:Ventes à venir
ATTACH;FMTTYPE=image/jpeg:https://www.cabinetmarechaux.com/wp-content/uploads/2025/04/BT250141_001_MTR__RVB-Hdef-scaled.jpeg
END:VEVENT
END:VCALENDAR