BEGIN:VCALENDAR
VERSION:2.0
PRODID:-//Cabinet Maréchaux - ECPv6.15.20//NONSGML v1.0//EN
CALSCALE:GREGORIAN
METHOD:PUBLISH
X-WR-CALNAME:Cabinet Maréchaux
X-ORIGINAL-URL:https://www.cabinetmarechaux.com
X-WR-CALDESC:Évènements pour Cabinet Maréchaux
REFRESH-INTERVAL;VALUE=DURATION:PT1H
X-Robots-Tag:noindex
X-PUBLISHED-TTL:PT1H
BEGIN:VTIMEZONE
TZID:Europe/Paris
BEGIN:DAYLIGHT
TZOFFSETFROM:+0100
TZOFFSETTO:+0200
TZNAME:CEST
DTSTART:20240331T010000
END:DAYLIGHT
BEGIN:STANDARD
TZOFFSETFROM:+0200
TZOFFSETTO:+0100
TZNAME:CET
DTSTART:20241027T010000
END:STANDARD
BEGIN:DAYLIGHT
TZOFFSETFROM:+0100
TZOFFSETTO:+0200
TZNAME:CEST
DTSTART:20250330T010000
END:DAYLIGHT
BEGIN:STANDARD
TZOFFSETFROM:+0200
TZOFFSETTO:+0100
TZNAME:CET
DTSTART:20251026T010000
END:STANDARD
BEGIN:DAYLIGHT
TZOFFSETFROM:+0100
TZOFFSETTO:+0200
TZNAME:CEST
DTSTART:20260329T010000
END:DAYLIGHT
BEGIN:STANDARD
TZOFFSETFROM:+0200
TZOFFSETTO:+0100
TZNAME:CET
DTSTART:20261025T010000
END:STANDARD
END:VTIMEZONE
BEGIN:VEVENT
DTSTART;VALUE=DATE:20250606
DTEND;VALUE=DATE:20250607
DTSTAMP:20260421T133126
CREATED:20250604T082310Z
LAST-MODIFIED:20250605T092229Z
UID:4115-1749168000-1749254399@www.cabinetmarechaux.com
SUMMARY:L'Huillier - Paris
DESCRIPTION:MOBILIER ET OBJETS D’ART\, TABLEAUX\, MANUSCRITS ET LIVRES\, ART D’ASIE\, ARGENTERIE\nvendredi 06 juin 2025 13:30\nSalle 1 – Hôtel Drouot \, 9\, rue Drouot 75009 Paris \nVoir le catalogue de la vente \nEcole fin XIXe\, début XXe siècle\nPortrait de femme de profil\nPastel sur toile\n34 x 37\,5 cm   \nProvenance :\n– Ancienne collection Eugène Boch\n– Succession Eugène Boch\, mentionné dans les inventaires de sa succession comme Emile Bernard. Cette attribution n’est pas confirmée par Mme Recchi. \n De part la tradition familiale\, il s’agirait d’un portrait d’Anna Boch.  Eugène Boch\, né dans une famille d’entrepreneurs en Belgique\, fondateurs de Villeroy & Boch\, il séjourne dans l’atelier du peintre français Léon Bonnat à Paris\, en 1879. Boch travaille ensuite dans l’atelier de Fernand Cormon. Il est présenté par Dodge MacKnight à Van Gogh qui réalisera son portrait\, conservé aujourd’hui au Musée d’Orsay. Il est le jeune frère d’Anna Boch\, peintre qui participa au salon des beaux-arts d’Ostende de 1907 avec Anna De Weert\, Louise Danse et Marie Antoinette Marcotte. Anna Boch avait une des plus importantes collections de peintures impressionnistes de son temps. Elle promut de jeunes artistes\, dont Vincent van Gogh\, qu’elle admirait pour son talent et qui était un ami de son frère Eugène Boch. Elle lui acheta pour 400 francs\, La Vigne rouge\, la seule oeuvre que Van Gogh arriva à vendre durant sa vie. Anna Boch meurt à Bruxelles en 1936 et est enterrée au cimetière d’Ixelles. La collection d’Anna Boch fut vendue aux enchères après sa mort\, où le collectionneur russe Sergueï Chtchoukine a notamment acquis La Vigne rouge\, peinte par Vincent van Gogh. Les oeuvres\, inédites à ce jour\, que nous présentons dans cette vente\, proviennent des descendants de la famille française qui hérita de sa collection. Pour une provenance identique voir : Maître BONDU\, Drouot-Richelieu\, 18 mars 1996 salle 2\, Succession de Mme X. \n \nEugène BOCH (1855-1941)\nPaysage (Bretagne ?)\nHuile sur toile\n61 x 82\,5 cm (Etiquette au dos\, Saint Lazare)   \nProvenance : Ancienne Collection Eugène BOCH\, puis par succession.   \n \nEugène BOCH (1855-1941)\nLac\, paysage d’Espagne ou d’Afrique du Nord Huile sur toile (chancis)\n46 x 74 cm   \nProvenance : Ancienne Collection Eugène BOCH\, puis par succession.
URL:https://www.cabinetmarechaux.com/index.php/event/lhuillier-paris-2/
LOCATION:DROUOT RICHELIEU\, 9 rue Drouot\, PARIS\, 75009
CATEGORIES:Ventes à venir
ATTACH;FMTTYPE=image/png:https://www.cabinetmarechaux.com/wp-content/uploads/2025/06/Capture-decran-2025-06-04-a-10.14.55.png
END:VEVENT
BEGIN:VEVENT
DTSTART;TZID=Europe/Paris:20250611T080000
DTEND;TZID=Europe/Paris:20250611T170000
DTSTAMP:20260421T133126
CREATED:20250611T082222Z
LAST-MODIFIED:20250611T082222Z
UID:4153-1749628800-1749661200@www.cabinetmarechaux.com
SUMMARY:Giquello - Paris
DESCRIPTION:CLASSIQUE ET DESIGN\nVendredi 13 juin 2025 11h30 – des lots 1 à 58 13h30 – des lots 59 à 329\nDrouot – salles 10 et 16 \nExpositions :\nJeudi 12 juin de 11h à 20h\nVendredi 13 juin de 11h à 12h\nTéléphone pendant l’exposition + 33(0)1 48 00 20 10 \nVoir le catalogue de la vente \n227\nMichel CHEMIAKIN (Né en 1943)\nSans titre\nGouache\, signée en haut à gauche\, située et datée Paris 1975\, signée des initiales et datée 75 sur le montage\n49\,5 x 35 cm
URL:https://www.cabinetmarechaux.com/index.php/event/giquello-paris-10/
CATEGORIES:Ventes à venir
ATTACH;FMTTYPE=image/jpeg:https://www.cabinetmarechaux.com/wp-content/uploads/2025/06/IMG_6931-scaled.jpeg
END:VEVENT
BEGIN:VEVENT
DTSTART;TZID=Europe/Paris:20250611T080000
DTEND;TZID=Europe/Paris:20250611T170000
DTSTAMP:20260421T133126
CREATED:20250611T082913Z
LAST-MODIFIED:20250611T083049Z
UID:4156-1749628800-1749661200@www.cabinetmarechaux.com
SUMMARY:Mirabaud - Mercier  -  Paris
DESCRIPTION:VENTE MOBILIER ET OBJETS D’ART – MERCREDI 25 JUIN\nVente à 14h00\, salle 16\, Hôtel Drouot\, au 9 rue Drouot 75009 Paris \nVoir le catalogue de la vente \n70 STEINLEN Théophile Alexandre (1859-1923)\nDeux chats couchés dos à dos\nÉpreuve en bronze patiné signée\, annotée ciré perdue\nHauteur : 4\,2 cm – Longueur :19\,3 cm – Largeur : 5\,8 cm\nCet exemplaire est répertorié dans les archives Steinlen de Mesdames Claude Orset et Elisabeth Maréchaux Laurentin en vue de la publication du catalogue raisonné de l’œuvre de Théophile Alexandre Steinlen\nProvenance :\nCollection Barrie-Chevalier
URL:https://www.cabinetmarechaux.com/index.php/event/4156/
CATEGORIES:Ventes à venir
ATTACH;FMTTYPE=image/png:https://www.cabinetmarechaux.com/wp-content/uploads/2025/06/Capture-decran-2025-06-11-a-10.27.31.png
END:VEVENT
BEGIN:VEVENT
DTSTART;VALUE=DATE:20250614
DTEND;VALUE=DATE:20250615
DTSTAMP:20260421T133126
CREATED:20250604T075506Z
LAST-MODIFIED:20250605T074412Z
UID:4108-1749859200-1749945599@www.cabinetmarechaux.com
SUMMARY:Corbeil-Essonnes - Maîtres Camper &  Dabernat
DESCRIPTION:Belle vente live 14 juin à 14h\nVoir le catalogue de la vente \nEmile FRIANT (1863-1932)\nLa Pluie 1895\nHuile sur panneau\, signé et daté 95 en bas à droite.\n25\,3 x 17\,4 cm \nProvenance:\n– Vente collection C. Coquelin\, Galerie Georges Petit\, Paris\, 9 juin 1906\, n°53\nCollection Louis Corbin\, puis par descendance \nExpositions :\nSalon de la Société Lorraine des Amis des Arts\, Galeries Victor Poirel\, Nancy\, 1895\, n°140\nSalon de la Société Nationale des Beaux-Arts\, Paris\, 1896\, n°548 \nBibliographie :\n– F. Loyer\, J.-P.  Middant\, B. Salmon\, Peinture et Art Nouveau : l’école de Nancy\, catalogue d’exposition au musée des Beaux-Arts de Nancy\, RMN\, Paris\, 1999\, p.145\n– Ch. de Meixmoron de Dombasle\, « Emile Friant »\,  Mémoires de l’Académie de Stanislas\, Berger-Levrault\, Nancy\, 1896\, p. 326\, p.328.\n– Cl. Petry\, Ch. Peltre\, Emile Friant.  Regard sur l’homme et l’oeuvre\, catalogue de l’exposition au musée des Beaux-Arts de Nancy\, Ville de Nancy éd.\, Nancy\, 1988\, p.26. \nNous remercions M. Jean-Sébastien Bertrand\, enseignant et historien de l’art\, pour les informations qu’il nous a communiquées. Ainsi que l’Association Emile Friant (A.E.F.). Les tableaux seront inclus dans le catalogue raisonné qu’elle prépare.
URL:https://www.cabinetmarechaux.com/index.php/event/corbeil-essonnes-maitres-camper-dabernat/
LOCATION:CORBEIL-ESSONNES\, 10 quai de l'Essonne\, CORBEIL-ESSONNES\, 91104\, France
CATEGORIES:Ventes à venir
ATTACH;FMTTYPE=image/jpeg:https://www.cabinetmarechaux.com/wp-content/uploads/2025/06/CF-001.jpeg
END:VEVENT
BEGIN:VEVENT
DTSTART;VALUE=DATE:20250614
DTEND;VALUE=DATE:20250615
DTSTAMP:20260421T133126
CREATED:20250604T075900Z
LAST-MODIFIED:20250604T082938Z
UID:4110-1749859200-1749945599@www.cabinetmarechaux.com
SUMMARY:Poitiers - Boissinot & Taillez
DESCRIPTION:VOITURES DE COLLECTION\, ARTS MODERNES\, CONTEMPORAINS & DESIGN\, une sélection par Boissinot et Taillez\nLive\n14 juin 2025 à 13h30 \nVoir le catalogue de la vente \nMimmo ROTELLA (1918-2006)\n« L’Auto Perfetta »\, 1964\nReport photographique sur toile émulsionnée\, signée et datée « Rotella/64 » en bas vers la gauche. Contresignée\, titrée et datée « 63 – 64 » au verso. 120 x 91 cm\nEtiquettes au verso : • « Murmures des Rues »\, Rennes\, 1994 • ASDAC (Association pour la Découverte de l’Art Contemporain\, Paris)\nA rapprocher du n°1964 017\, T. III du Catalogue raisonné par Germano Celant.
URL:https://www.cabinetmarechaux.com/index.php/event/poitiers-boissinot-taillez/
LOCATION:HOTEL DES VENTES DE POITIERS\, 22 boulevard du Grand Cerf\, POITIERS
CATEGORIES:Ventes à venir
ATTACH;FMTTYPE=image/jpeg:https://www.cabinetmarechaux.com/wp-content/uploads/2025/06/IMG_20250321_104212.jpeg
END:VEVENT
BEGIN:VEVENT
DTSTART;VALUE=DATE:20250617
DTEND;VALUE=DATE:20250618
DTSTAMP:20260421T133126
CREATED:20250604T084859Z
LAST-MODIFIED:20250604T084859Z
UID:4125-1750118400-1750204799@www.cabinetmarechaux.com
SUMMARY:APONEM - Paris
DESCRIPTION:ŒUVRES CHOISIES\nMardi 17 Juin 2025 14:00\nSalle 10 – Hôtel Drouot \, 9\, rue Drouot 75009 Paris \nVoir le catalogue de la vente \nFrancis PICABIA (1879-1953)\nSans titre\, vers 1943\nDessin au fusain et crayon noir signé en bas à droite\n26 x 20\,7 cm   \nExposition : Galerie Lhote\, La Rochelle\, 10 au 20 janvier 19471.   \nBibliographie : Reproduit dans la Nouvelle République de Bordeaux et du Sud-Ouest du 7 janvier 1947.   \nNous remercions le comité Picabia d’avoir confirmé l’authenticité de ce dessin lors de la réunion du comité du 6 mars 2025.
URL:https://www.cabinetmarechaux.com/index.php/event/aponem-paris-3/
CATEGORIES:Ventes à venir
ATTACH;FMTTYPE=image/png:https://www.cabinetmarechaux.com/wp-content/uploads/2025/06/Capture-decran-2025-06-04-a-10.46.51.png
END:VEVENT
BEGIN:VEVENT
DTSTART;VALUE=DATE:20250617
DTEND;VALUE=DATE:20250618
DTSTAMP:20260421T133126
CREATED:20250605T143517Z
LAST-MODIFIED:20250605T145454Z
UID:4139-1750118400-1750204799@www.cabinetmarechaux.com
SUMMARY:Christophe Joron-Derem - Paris
DESCRIPTION:COLLECTIONS IRÈNE SILVAGNI (1941-2022) JEAN-JACQUES GUERON (1943-2024).\nIMPORTANTS ENSEMBLES PAR PETER LINDBERGH\, MAURO MEJIAS\, JOAQUIN FERRER ET DIVERS\nMardi 17 juin 2025 à 13h30\nSalle 6 – Hôtel Drouot \, 9\, rue Drouot 75009 Paris \nVoir le catalogue de la vente \nMarie Joseph Léon CLAVEL dit IWILL (1850-1923)\nDu Lido à Venise\, 1909\nHuile sur toile\, signée en bas à gauche\, située et datée 1909\, annotée sur le châssis « du Lido à Venise » 105 x 136 cm    \nEXPOSITION : Paris\, Société nationale des Beaux-Art\, Salon de 1910\, n°688\, (p.17 du catalogue) « Pastelliste ou peintre\, Iwill aime le miroir des eaux\, le grain qui vient\, le vent mouillé des mois d’hiver […]. Ses tons de pastel en ont retenu la nacre changeante\, le gris-perle des fonds à la lueur verdâtre ou rosée »\, écrivait Raymond Bouyer. Iwill prit au début de sa carrière ce pseudonyme inspiré de l’anglais « I will » pour marquer sa détermination à devenir peintre\, malgré l’avis de son père. Il s’est fait une place parmi les paysagistes français\, exposant régulièrement aux Salons ainsi qu’aux Etats-Unis; en 1910\, le Detroit Museum of Art lui consacre une exposition personnelle
URL:https://www.cabinetmarechaux.com/index.php/event/christophe-joron-derem-paris/
CATEGORIES:Ventes à venir
ATTACH;FMTTYPE=image/jpeg:https://www.cabinetmarechaux.com/wp-content/uploads/2025/06/Sans-titre-scaled.jpg
END:VEVENT
BEGIN:VEVENT
DTSTART;VALUE=DATE:20250619
DTEND;VALUE=DATE:20250620
DTSTAMP:20260421T133126
CREATED:20250604T102703Z
LAST-MODIFIED:20250604T102755Z
UID:4131-1750291200-1750377599@www.cabinetmarechaux.com
SUMMARY:Biarritz- Maître Carayol
DESCRIPTION:ARTS BASQUE & LANDAIS\nJeudi 19.06.2025\n6 allée de l’aéropostale 64200 Biarritz \nVoir le catalogue de la vente \n95 ·\nRENÉ MAXIME CHOQUET (1872-1958)\n«Le paysan et ses pottoks»\nHuile sur carton marouflée sur toile\, Signée en bas à gauche\n60 x 72\,5 cm (restaurations et repeints)
URL:https://www.cabinetmarechaux.com/index.php/event/biarritz-maitre-carayol-4/
CATEGORIES:Ventes à venir
ATTACH;FMTTYPE=image/png:https://www.cabinetmarechaux.com/wp-content/uploads/2025/06/Capture-decran-2025-06-04-a-12.26.19.png
END:VEVENT
BEGIN:VEVENT
DTSTART;VALUE=DATE:20250622
DTEND;VALUE=DATE:20250623
DTSTAMP:20260421T133126
CREATED:20250620T095946Z
LAST-MODIFIED:20250620T095946Z
UID:4182-1750550400-1750636799@www.cabinetmarechaux.com
SUMMARY:Hôtel des ventes Tourny - Emmanuel Layan  - Bordeaux
DESCRIPTION:Trésors 2025 – Grande vente prestige\nVente à 14h30\n38 Rue Lafaurie de Monbadon\, 33000 Bordeaux \nFrançois BOCION 1828-1890\n« Barque sur le lac Léman »\nHuile sur toile\, signée en bas à droite\, datée 1858 en bas à\ndroite\,\n61 x 38 cm\nNous remercions Monsieur Michel REYMONDIN d’avoir confirmé l’authenticité de cette toile. \nLes barques du Léman sont des navires emblématiques du lac éponyme. Reliant une rive à l’autre avec célérité et sécurité\, elles ont joué un rôle déterminant dans le développement des échanges humains\, sociaux et économiques dans ce milieu lacustre particulier. Elles sont\, toujours aujourd’hui\, les plus grandes embarcations existantes à double voile latine.
URL:https://www.cabinetmarechaux.com/index.php/event/hotel-des-ventes-tourny-emmanuel-layan-bordeaux/
CATEGORIES:Ventes à venir
ATTACH;FMTTYPE=image/png:https://www.cabinetmarechaux.com/wp-content/uploads/2025/06/Capture-decran-2025-06-20-a-11.51.56.png
END:VEVENT
BEGIN:VEVENT
DTSTART;VALUE=DATE:20250625
DTEND;VALUE=DATE:20250626
DTSTAMP:20260421T133126
CREATED:20250618T075233Z
LAST-MODIFIED:20250623T085116Z
UID:4160-1750809600-1750895999@www.cabinetmarechaux.com
SUMMARY:Mirabaud-Mercier - Paris
DESCRIPTION:MERCREDI 25 JUIN 2025\nSalle 16 Hôtel Drouot\n9\, rue Drouot – 75009 Paris \nVente à 14 h \nDESSINS ET TABLEAUX\nSCULPTURES\nARTS D’ORIENT ET EXTRÊME-ORIENT\nMOBILIER ET OBJETS D’ART\nART MODERNE ET CONTEMPORAIN\nTAPIS \nEXPOSITIONS\nMardi 24 juin de 11 h à 18 h\nMercredi 25 juin de 11 h à 12 h \n \n37 ZIEM Félix (1821-1911)\nMarseille\, le marché aux fleurs\nHuile sur panneau\, signée en haut à droite\n35\,5 x 26\,5 cm\nBiBliographie :\nPierre Miquel\, Felix Ziem\, Editions de la Martinelle\, Maurs la jolie\, 1978\, n° 414\, décrit et non reproduit \n \n70 STEINLEN Théophile Alexandre (1859-1923)\nDeux chats couchés dos à dos\nÉpreuve en bronze patiné signée\, annotée ciré perdue\nHauteur : 4\,2 cm – Longueur :19\,3 cm – Largeur : 5\,8 cm\nCet exemplaire est répertorié dans les archives Steinlen de Mesdames Claude Orset et Elisabeth Maréchaux Laurentin en vue de la publication du catalogue raisonné de l’œuvre de Théophile Alexandre Steinlen \nProvenance :Collection Barrie-Chevalier \n \n79 D’après Auguste RENOIR et Richard GUINO\nLa grande laveuse\nEpreuve en bronze patiné\, porte ue signature « Renoir »\, un cachet « cire perdue C.VALSUANI Paris » et lettrée « B »\nHauteur : 121 cm\nFonte posthume\nNous remercions les héritiers Guino  de nous avoir précisé  qu’il s’agit d’un bronze probablement exécuté à partir du plâtre original à une date inconnue.
URL:https://www.cabinetmarechaux.com/index.php/event/mirabaud-mercier-paris-5/
LOCATION:DROUOT RICHELIEU\, 9 rue Drouot\, PARIS\, 75009
CATEGORIES:Ventes à venir
ATTACH;FMTTYPE=image/png:https://www.cabinetmarechaux.com/wp-content/uploads/2025/06/Capture-decran-2025-06-18-a-09.48.33.png
END:VEVENT
BEGIN:VEVENT
DTSTART;VALUE=DATE:20250626
DTEND;VALUE=DATE:20250627
DTSTAMP:20260421T133126
CREATED:20250604T085617Z
LAST-MODIFIED:20250623T085728Z
UID:4128-1750896000-1750982399@www.cabinetmarechaux.com
SUMMARY:Audap et Associés - Paris
DESCRIPTION:TABLEAUX MODERNES & ARTS DECORATIFS DU XXE SIECLE\njeudi 26 juin 2025 14:00\nSalle 11 – Hôtel Drouot \, 9\, rue Drouot 75009 Paris \nEXPOSITION PUBLIQUE\nMercredi 25 juin de 11h à 18h\nJeudi 26 juin de 11h à 12h \nSonia DELAUNAY (1885-1979)\nRythme couleur\, 1979\nGouache\, signée et datée août 79 en bas à droite\, porte un numéro 2.096 en bas à gauche.\nHaut. : 39 cm ; Larg. : 29 cm (dimensions à vue)\nProvenance :\n– Albright-Knox Art Gallery\, Buffalo\, USA ;\n– Vente PIASA du 14 octobre 2007\, lot n° 56 ;\n– Puis collection privée française.    \nExposition :\n– Sonia Delaunay\, a retrospective\, Albright-Knox Art Gallery\, Buffalo\, USA\, 2 février 1980-17 mai 1981.  \n \n39 Charles-Édouard JEANNERET\, dit LE CORBUSIER (1887-1965)\nFemme nue agenouillée\, vers 1935\nPastel (accidents sur certains bords)\nHaut. : 21 cm ; Larg. : 31\,2 cm (dimensions à vue) \nProvenance :\n– Vente PIASA du 4 avril 2008\, lot n° 99. \nNous remercions monsieur Éric Mouchet de nous avoir aimablement confirmé l’attribution de ce dessin. Une attestation sera remise à l’acquéreur.
URL:https://www.cabinetmarechaux.com/index.php/event/audap-et-associes-paris-12/
CATEGORIES:Ventes à venir
ATTACH;FMTTYPE=image/png:https://www.cabinetmarechaux.com/wp-content/uploads/2025/06/Capture-decran-2025-06-23-a-10.55.17.png
END:VEVENT
BEGIN:VEVENT
DTSTART;VALUE=DATE:20250626
DTEND;VALUE=DATE:20250627
DTSTAMP:20260421T133126
CREATED:20250623T101036Z
LAST-MODIFIED:20250623T101036Z
UID:4191-1750896000-1750982399@www.cabinetmarechaux.com
SUMMARY:Aponem - Génicourt
DESCRIPTION:Belle vente d’été \nVoir le catalogue de la vente \nJean-Léon GÉRÔME (1824-1904)\nPortrait de Suzanne\nHuile sur toile\, annotée et datée en haut à gauche « SUZANNE GÉRÔME 1872 »\n56 x 43 cm\n(Petites déchirures visible)  \nNote :\n– Très probablement le portrait de Suzanne Gérôme (1867-1941)\, deuxième fille de l’artiste\, alors âgée d’environ 5 ans\, qui épousera en 1887 le peintre Aimé Morot (1850-1913). Le catalogue raisonné de Monsieur Gérald L. Ackerman (éditions ACR 1986) mentionne en 1873 les portraits de deux autres des filles de Gérôme par leur père\, Jeanne et Blanche\, n° 235 et 236. \n\nLouis ICART (1888-1950)\n… Mince Alors…\nHuile sur toile\, signée en bas à droite\n46 x 38 cm \nExposition :\n– Salon des humoristes\, Paris\, 11 rue Royale\, 4 mars-11 avril 1936\, n° 217.
URL:https://www.cabinetmarechaux.com/index.php/event/aponem-genicourt-2/
CATEGORIES:Ventes à venir
ATTACH;FMTTYPE=image/png:https://www.cabinetmarechaux.com/wp-content/uploads/2025/06/Capture-decran-2025-06-23-a-12.04.49.png
END:VEVENT
BEGIN:VEVENT
DTSTART;VALUE=DATE:20250626
DTEND;VALUE=DATE:20250627
DTSTAMP:20260421T133126
CREATED:20250624T091202Z
LAST-MODIFIED:20250624T091202Z
UID:4195-1750896000-1750982399@www.cabinetmarechaux.com
SUMMARY:Niort - DSEE - Maître Gaël Biard
DESCRIPTION:Belle vente mobilière\nTABLEAUX – ORFEVRERIE – MOBILIER – ENSEMBLE D’OBJETS ET MEUBLES PAR MARIA PERGAY (1930-2023) \n26 juin à 14h \nVoir le catalogue de la vente sur Interenchères \nJean CARZOU (1907-2000)\n« Mississipi »\, 1976\nHuile sur toile\, signée\, datée 76 en bas à gauche. Titrée\, contresignée et datée au verso.\n54 x 65 cm\nProvenance :  Wildenstein Tokyo Co.\, Ltd \n \nGeorges ROHNER (1913-2000)« Ail et fer »\, 1976\nHuile sur toile\, signée en bas à droite. ( taches )\n65 x 81 cm\nBibliographie : Pierre Cabanne\, « Rohner »\, Les Editions de l’Amateur\, Paris\, 1989. Catalogue de l’oeuvre peint de Rohner\, décrit sous le n°937\, p.190.
URL:https://www.cabinetmarechaux.com/index.php/event/niort-maitre-gael-biard-dsee-vente-aux-encheres-commissaire-priser-expertise-peinture/
LOCATION:HOTEL DES VENTES DE NIORT\, 52 rue de la gare\, NIORT\, 79000
CATEGORIES:Ventes à venir
ATTACH;FMTTYPE=image/jpeg:https://www.cabinetmarechaux.com/wp-content/uploads/2025/06/IMG_20250602_162252.jpeg
END:VEVENT
BEGIN:VEVENT
DTSTART;VALUE=DATE:20250627
DTEND;VALUE=DATE:20250628
DTSTAMP:20260421T133126
CREATED:20250605T144323Z
LAST-MODIFIED:20250605T150042Z
UID:4144-1750982400-1751068799@www.cabinetmarechaux.com
SUMMARY:Beaussant&Lefèvre avec Morand&Morand - Paris
DESCRIPTION:ESTAMPES\, DESSINS\, TABLEAUX ANCIENS et MODERNES OBJETS d’ART et de BEL AMEUBLEMENT TAPISSERIES – TAPIS\nVENTE AUX ENCHÈRES PUBLIQUES\nLe vendredi 27 juin 2025 à 13 h 30\nPar le ministère de :\nMes Eric BEAUSSANT\, Arthur de MORAS\, Vincent HERAUD et Théo LAVIGNON Commissaires-Priseurs associés\nassistés de Michel IMBAULT\,\nen présence de\nMe Pierre-Yves LEFÈVRE\nCommissaire-Priseur \nVoir le catalogue de la vente \nLot n°89. Narcisse Virgile DIAZ de la PENA (1807-1878)\nLa halte du chasseur et de ses chiens\, 1867\nHuile sur toile\, signée et datée en bas à gauche.\n(Petits manques au cadre\, la signature a pu être repiquée lors d’un nettoyage).\n73 x 60 cm\nCadre en bois doré et stuqué à riche décor de frises de perles\, feuilles d’acanthe et tores de laurier. \nTableau présenté en collaboration avec l’étude Morand & Morand
URL:https://www.cabinetmarechaux.com/index.php/event/beaussant-lefevre-paris/
CATEGORIES:Ventes à venir
ATTACH;FMTTYPE=image/png:https://www.cabinetmarechaux.com/wp-content/uploads/2025/06/Capture-decran-2025-06-05-a-16.40.53.png
END:VEVENT
BEGIN:VEVENT
DTSTART;VALUE=DATE:20250630
DTEND;VALUE=DATE:20250702
DTSTAMP:20260421T133126
CREATED:20250620T094621Z
LAST-MODIFIED:20250620T094724Z
UID:4177-1751241600-1751414399@www.cabinetmarechaux.com
SUMMARY:Giquello - Paris
DESCRIPTION:COLLECTION G. H. VAN DEN LOOP – PARTIE I\nLundi 30 Juin 16:00 et mardi 1er juillet 2025 à 14h\nSalle 14-15 – Hôtel Drouot \, 9\, rue Drouot 75009 Paris \nVoir le catalogue de la vente \nLot 13\nJulio GONZALEZ (1876-1942)\nMain aux piquants (ca. 1937)\nÉpreuve en bronze patiné\, fonte à la cire perdue Valsuani (cachet du fondeur)\, signée et numérotée 6/8 H. 23\,7 cm – L. 14\,4 cm – P. 8 cm \nExposition :\n– Galerie Libéral Bruant\, Paris\, « Exposition Julio Gonzalez\, peintures\, dessins\, sculptures »\, 25 novembre 2005 – 4 mars 2006\, n°131\, rep. p. 135 du catalogue\nBibliographie :\n– Jörn Merkert\, Gonzalez\, catalogue raisonné des sculptures\, Electa\, Milan\, 1987\, décrite et un exemplaire du même modèle reproduite sous le n°230\, p. 264\nCatalogue :\n– Louis Deledicq\, Julio Gonzales à la Galerie Libéral Bruant\, Paris\, Héritage Architectural\, 2005\, p. 135\, n°131 \n\nLot 7\nPierre BERGIAN (né en 1965) Chez Pierre LE-TAN à Paris\, 2017 Technique mixte sur panneau\, signé et daté XXVII en bas à droite. Contresigné et situé au verso. 53 x 51 cm
URL:https://www.cabinetmarechaux.com/index.php/event/giquello-paris-11-vente-aux-encheres-expertise/
CATEGORIES:Ventes à venir
ATTACH;FMTTYPE=image/png:https://www.cabinetmarechaux.com/wp-content/uploads/2025/06/Capture-decran-2025-06-20-a-11.37.15.png
END:VEVENT
END:VCALENDAR